BEGIN:VCALENDAR
VERSION:2.0
PRODID:-//Pathology - ECPv6.15.15//NONSGML v1.0//EN
CALSCALE:GREGORIAN
METHOD:PUBLISH
X-ORIGINAL-URL:https://lab.cmhlmc.com
X-WR-CALDESC:Events for Pathology
REFRESH-INTERVAL;VALUE=DURATION:PT1H
X-Robots-Tag:noindex
X-PUBLISHED-TTL:PT1H
BEGIN:VTIMEZONE
TZID:UTC
BEGIN:STANDARD
TZOFFSETFROM:+0000
TZOFFSETTO:+0000
TZNAME:UTC
DTSTART:20220101T000000
END:STANDARD
END:VTIMEZONE
BEGIN:VEVENT
DTSTART;TZID=UTC:20231115T073800
DTEND;TZID=UTC:20231115T073800
DTSTAMP:20260419T184753
CREATED:20231115T073010Z
LAST-MODIFIED:20231121T045540Z
UID:4606-1700033880-1700033880@lab.cmhlmc.com
SUMMARY:Opening and inauguration of a state-of-the-art Pathology Laboratory and Pharmacy
DESCRIPTION:CMH LMC & IOD proudly announces the successful opening and inauguration of a state-of-the-art Pathology Laboratory and Pharmacy on Oct 18th\,2023 under the supervision\,guidance and untiring efforts of Prof Dr. Gen Naeem Naqi(R) HI (M) CE and principal of CMH LMC & IOD\, Brig Saqib Zaheer DCE/ VP and the administration.\nThis Laboratory is going to be a significant milestone for healthcare system in the area. It will greatly enhance diagnostic capabilities and contribute to better patient care.\nThat’s an impressive and comprehensive pathology lab with services ranging from chemical pathology\, hematology\, microbiology\, histopathology and a well equipped Pharmacy.\nThis will be a valuable asset for healthcare in your region\, offering a wide range of diagnostic and treatment options. \n 
URL:https://lab.cmhlmc.com/event/opening-and-inauguration-of-a-state-of-the-art-pathology-laboratory-and-pharmacy/
ATTACH;FMTTYPE=image/jpeg:https://lab.cmhlmc.com/wp-content/uploads/2023/11/396414281_346653121236146_249470926181181066_n-1.jpg
END:VEVENT
END:VCALENDAR